BEGIN:VCALENDAR
VERSION:2.0
PRODID:-//Marco Augusto - Wohnzimmerkonzert - italienische Musik - Musiker - Konzerte - Tourdaten - ECPv6.15.20//NONSGML v1.0//EN
CALSCALE:GREGORIAN
METHOD:PUBLISH
X-WR-CALNAME:Marco Augusto - Wohnzimmerkonzert - italienische Musik - Musiker - Konzerte - Tourdaten
X-ORIGINAL-URL:https://marco-augusto.de
X-WR-CALDESC:Veranstaltungen für Marco Augusto - Wohnzimmerkonzert - italienische Musik - Musiker - Konzerte - Tourdaten
REFRESH-INTERVAL;VALUE=DURATION:PT1H
X-Robots-Tag:noindex
X-PUBLISHED-TTL:PT1H
BEGIN:VTIMEZONE
TZID:Europe/Paris
BEGIN:DAYLIGHT
TZOFFSETFROM:+0100
TZOFFSETTO:+0200
TZNAME:CEST
DTSTART:20250330T010000
END:DAYLIGHT
BEGIN:STANDARD
TZOFFSETFROM:+0200
TZOFFSETTO:+0100
TZNAME:CET
DTSTART:20251026T010000
END:STANDARD
BEGIN:DAYLIGHT
TZOFFSETFROM:+0100
TZOFFSETTO:+0200
TZNAME:CEST
DTSTART:20260329T010000
END:DAYLIGHT
BEGIN:STANDARD
TZOFFSETFROM:+0200
TZOFFSETTO:+0100
TZNAME:CET
DTSTART:20261025T010000
END:STANDARD
BEGIN:DAYLIGHT
TZOFFSETFROM:+0100
TZOFFSETTO:+0200
TZNAME:CEST
DTSTART:20270328T010000
END:DAYLIGHT
BEGIN:STANDARD
TZOFFSETFROM:+0200
TZOFFSETTO:+0100
TZNAME:CET
DTSTART:20271031T010000
END:STANDARD
END:VTIMEZONE
BEGIN:VEVENT
DTSTART;TZID=Europe/Paris:20260523T190000
DTEND;TZID=Europe/Paris:20260523T220000
DTSTAMP:20260421T134130
CREATED:20260322T104334Z
LAST-MODIFIED:20260322T104610Z
UID:6739-1779562800-1779573600@marco-augusto.de
SUMMARY:D- Heilbronn – Italienischer Markt
DESCRIPTION:Dolce Vita in Heilbronn: Beim Italienischen Markt verwandelt sich der Heilbronner Kiliansplatz in den „Piazza Kilian“. Lebhafte italienische Händler bieten mediterrane und traditionelle italienische Köstlichkeiten wie Käse\, Wurst\, Obst\, Antipasti\, Öl\, Brot\, Wein\, Süßwaren und vieles mehr zum Kauf an. Genießt bei einem Espresso\, einem guten Glas Wein\, den bekannten „Dolci“\, Pasta oder Pizza mitten im pulsierenden Marktleben die stimmungsvolle Atmosphäre Italiens. Und am Samstagabend des 23. Mai live auch meine Lieder! Hab super Musiker dabei (Gerd Pfeuffer am Sax und Claus Müller an den Drums)… freuen uns tierisch auf euch! \nA presto\, Euer Marco 🙂 \nAlle Infos: https://www.heilbronn.de/tourismus/veranstaltungskalender/detail/italienischer-markt.html \nFoto: heilbronn.de
URL:https://marco-augusto.de/tour/d-heilbronn-italienischer-markt/
LOCATION:Italienischer Markt Heilbronn\, Kiliansplatz\, Heilbronn\, 74072\, Germany
ATTACH;FMTTYPE=image/jpeg:https://marco-augusto.de/wp-content/uploads/2026/03/IT-Markt-Heilbronn-webopt.jpg
END:VEVENT
END:VCALENDAR